BEGIN:VCALENDAR
VERSION:2.0
PRODID:-//wp-events-plugin.com//7.2.3.1//EN
TZID:Europe/Berlin
X-WR-TIMEZONE:Europe/Berlin
BEGIN:VEVENT
UID:58@wanderkrimi-schwarzwald.de
DTSTART:20240517T150000Z
DTEND:20240517T200000Z
DTSTAMP:20240517T050246Z
URL:https://wanderkrimi-schwarzwald.de/events/kulinarischer-wanderkrimi-fr
 eitag-nachmittag-17-05-24-der-perfekte-wochenausklang/
SUMMARY:Fällt wegen Dauerregen aus 😒 Kulinarischer Wanderkrimi - Freita
 g nachmittag 17.05.24 - der perfekte Wochenausklang
DESCRIPTION:Der Wanderkrimi - spannend - heimatnah und gesellig - Sie werde
 n staunen!!\n\nStart/Ende: Backhiesel Waldulm\, Im Zinsel 7\, Waldulm\nSta
 rt: 15.00 Uhr\nDauer der Ermittlungen ca. 4\,5 - 5 Stunden/Wanderstrecke c
 a. 6km\nDer Teilnehmerbeitrag pro Person beträgt 30€\n(Kinder 9-15 Jahr
 e13€\, Jugendliche 16 -17Jahre 20€)\nIn diesem Preis ist der Sektempfa
 ng\, der Wanderkrimi sowie Ermittlungswässerle - wenn die Ermittlungen in
 s Stocken geraten \;) - enthalten.\nNatürlich auch immer eine alkoholfrei
 e Variante.\n\nBeginn und Ende am Backhiesel. Es besteht die Möglichkeit 
 den Abend dort ausklingen zu lassen.\nÜber das Essensangebot werde ich Si
 e vorab informieren.\n\nNäher Informationen zum Backhiesel unter: Backhie
 sel und Schnapsbrunnen in Waldulm\n\nDie Veranstaltung findet bei jedem We
 tter (Ausnahme Gewitter) statt.\n\nIch behalte mir vor\, die Veranstaltung
  kurzfristig aufgrund schlechter Wetterprognose oder Erkrankung der Verans
 talterin abzusagen. Die Teilnehmergebühr ist vor Ort in bar zu entrichten
 .\nDie Teilnahme erfolgt auf eigene Gefahr. Der Wanderkrimi haftet nicht f
 ür mögliche Unfälle auf der Strecke.\n\nBitte beachten Sie\, die Anmeld
 ung ist verbindlich. Sollte eine Teilnahme von Ihrer Seite nicht möglich 
 sein\, können Sie selbstverständlich für Ersatz sorgen. Gerne bin ich I
 hnen dabei behilflich.
LOCATION:Backhiesel\, Zinsel 7\, Kappelrodeck-Waldulm \, Deutschland
X-APPLE-STRUCTURED-LOCATION;VALUE=URI;X-ADDRESS=Zinsel 7\, Kappelrodeck-Wal
 dulm \, Deutschland;X-APPLE-RADIUS=100;X-TITLE=Backhiesel:geo:0,0
END:VEVENT
END:VCALENDAR