BEGIN:VCALENDAR
VERSION:2.0
PRODID:-//wp-events-plugin.com//7.2.3.1//EN
TZID:Europe/Berlin
X-WR-TIMEZONE:Europe/Berlin
BEGIN:VEVENT
UID:62@wanderkrimi-schwarzwald.de
DTSTART:20240518T130000Z
DTEND:20240518T180000Z
DTSTAMP:20240226T022302Z
URL:https://wanderkrimi-schwarzwald.de/events/wanderkrimi-samstag-18-05-20
 24/
SUMMARY:Ausgebucht😘 Wanderkrimi - Samstag 18.05.2024
DESCRIPTION:Der Wanderkrimi - spannend - heimatnah und gesellig -\nSie werd
 en staunen!!\nStart/Ende: Backhiesel\, Im Zinsel 7\, Kappelrodeck-Waldulm\
 nStart: 13:00 Uhr\nDauer der Ermittlungen ca. 4\,5-5 Stunden/Wanderstrecke
  ca. 6km\nDer Teilnehmerbeitrag pro Person beträgt 30€\n(Kinder 9-15 Ja
 hre13€\, Jugendliche 16 -17Jahre 20€)\nIn diesem Preis ist der Sektemp
 fang\, der Wanderkrimi sowie Ermittlungswässerle - wenn die Ermittlungen 
 ins Stocken geraten \;) - enthalten.\nNatürlich auch immer eine alkoholfr
 eie Variante.\nNach Ende der Veranstaltung besteht die Möglichkeit den Na
 chmittag am Backhiesel ausklingen zu lassen.\nNäher Informationen zum Bac
 khiesel unter: Backhiesel und Schnapsbrunnen in Waldulm\n\nBuchungen für 
 Kinder\, sowie mit Gutscheinen bitte im Buchungsportal vornehmen und in de
 n Kommentaren vermerken.\nDie Mindestteilnehmeranzahl beträgt 14 Personen
 .\nSofern diese Zahl nicht erreicht wird\, müssen wir die Veranstaltung l
 eider absagen. Wir informieren Sie dann drei Tage vorher.\n\nDie Veranstal
 tung findet bei jedem Wetter (Ausnahme: Gewitter/Sturm) statt.\n\nIch beha
 lte mir vor\, die Veranstaltung kurzfristig aufgrund schlechter Wetterprog
 nose oder Erkrankung der Veranstalterin abzusagen. Die Teilnehmergebühr i
 st vor Ort in bar zu entrichten.\nDie Teilnahme erfolgt auf eigene Gefahr.
  Der Wanderkrimi haftet nicht für mögliche Unfälle auf der Strecke.\n\n
 Bitte beachten Sie\, die Anmeldung ist verbindlich. Sollte eine Teilnahme 
 von Ihrer Seite nicht möglich sein\, können Sie selbstverständlich für
  Ersatz sorgen. Gerne bin ich Ihnen dabei behilflich.
LOCATION:Backhiesel\, Im Zinsel 7\, Kapelrodeck-Waldulm\, Deutschland
X-APPLE-STRUCTURED-LOCATION;VALUE=URI;X-ADDRESS=Im Zinsel 7\, Kapelrodeck-W
 aldulm\, Deutschland;X-APPLE-RADIUS=100;X-TITLE=Backhiesel:geo:0,0
END:VEVENT
END:VCALENDAR